Workbook

Sheet Enero
D2: ¿Cómo iniciar? 1. Colocá todos tus ingresos en la casilla de "presupuestado". 2. Dividí el monto total de ingresos en todos los rubros de gastos. No debe sobrarte dinero, y si sobra, que vaya a tu categoría de ahorro. 3. Empezás a agregar todos tus gastos en la pestaña de "real". | G2: Lo importante: Si dejaste de llenarlo un tiempo, no importa. Volvé a iniciar así sea a mitad de mes. Lo que cambia tus finanzas es el hábito.
B5: PRESUPUESTO PARA FAMILIAS
E7: PRESUPUESTADO | F7: REAL | G7: DIFERENCIA | H7: MEDIO DE PAGO
B8: INGRESOS | D8: Salario mensual | G8: =+E8-F8 -> 0 | H8: Depósito a cuenta
D9: Comisiones /Bonos / Viáticos | G9: =+E9-F9 -> 0
D10: Aguinaldo | G10: =+E10-F10 -> 0
D11: Retiro cuentas de ahorro / Intereses ganados | G11: =+E11-F11 -> 0
D12: Préstamos pedidos | G12: =+E12-F12 -> 0
D13: Negocios personales | G13: =+E13-F13 -> 0
D14: Otros | G14: =+E14-F14 -> 0
B15: TOTAL INGRESOS | E15: =SUM(E8:E14) -> 0 | F15: =SUM(F8:F14) -> 0 | G15: =SUM(G8:G14) -> 0 | H15: =SUM(H8:H13) -> 0
B16: AHORRO
D18: Fondo de emergencia | G18: =+E18-F18 -> 0
D19: Plan de retiro | G19: =+E19-F19 -> 0
D20: Metas | G20: =+E20-F20 -> 0
D21: Inversiones | G21: =+E21-F21 -> 0
D22: TOTAL AHORRO | E22: =SUM(E18:E21) -> 0 | F22: =SUM(F18:F21) -> 0 | G22: =SUM(G18:G21) -> 0
B23: HOGAR Y SERVICIOS BÁSICOS
D24: Renta | E24: 400 | F24: 398 | G24: =+E24-F24 -> 2 | H24: Tarjeta de débito
D25: Electricidad | G25: =+E25-F25 -> 0
D26: Agua | G26: =+E26-F26 -> 0
D27: Cable / Internet / Teléfono | G27: =+E27-F27 -> 0
D28: Gas / Basura | G28: =+E28-F28 -> 0
D29: Compras en el supermercado | G29: =+E29-F29 -> 0
D30: Empleados / Jardinería | G30: =+E30-F30 -> 0
D31: Lavandería / Dry Cleaning / Planchada | G31: =+E31-F31 -> 0
D32: Vigilancia | G32: =+E32-F32 -> 0
D33: Mantenimiento / Mejoras
D34: Compra de aparatos / Mobiliario | G34: =+E34-F34 -> 0
D35: TOTAL HOGAR Y SERVICIOS BÁSICOS | E35: =SUM(E24:E34) -> 400 | F35: =SUM(F24:F34) -> 398 | G35: =SUM(G24:G34) -> 2
B36: AUTO / TRANSPORTE
D37: Combustible | G37: =+E37-F37 -> 0
D38: Mantenimiento / Reparaciones | G38: =+E38-F38 -> 0
D39: Transporte | G39: =+E39-F39 -> 0
D40: Otros (Lavado / Inspecciones / Llantas) | G40: =+E40-F40 -> 0
D41: TOTAL AUTO / TRANSPORTE | E41: =SUM(E37:E40) -> 0 | F41: =SUM(F37:F40) -> 0 | G41: =SUM(G37:G40) -> 0
B42: PAGO DE DEUDAS
D43: Crédito hipotecario
D44: Crédito automotriz | G44: =+E44-F44 -> 0
D45: Extrafinanciamiento | G45: =+E45-F45 -> 0
...

Sheet Febrero
G2: El mes pasado me excedí en:
G3: =Enero!F106 -> -398
B5: PRESUPUESTO PARA FAMILIAS
E7: PRESUPUESTADO | F7: REAL | G7: DIFERENCIA | H7: MEDIO DE PAGO
B8: INGRESOS | D8: Salario mensual | G8: =+E8-F8 -> 0
D9: Comisiones /Bonos / Viáticos | G9: =+E9-F9 -> 0
D10: Aguinaldo | G10: =+E10-F10 -> 0
D11: Retiro cuentas de ahorro / Intereses ganados | G11: =+E11-F11 -> 0
D12: Préstamos pedidos | G12: =+E12-F12 -> 0
D13: Negocios personales | G13: =+E13-F13 -> 0
D14: Otros | G14: =+E14-F14 -> 0
B15: TOTAL INGRESOS | E15: =SUM(E8:E14) -> 0 | F15: =SUM(F8:F14) -> 0 | G15: =SUM(G8:G14) -> 0 | H15: =SUM(H8:H13) -> 0
B16: AHORRO
D18: Fondo de emergencia | G18: =+E18-F18 -> 0
D19: Plan de retiro | G19: =+E19-F19 -> 0
D20: Metas | G20: =+E20-F20 -> 0
D21: Inversiones | G21: =+E21-F21 -> 0
D22: TOTAL AHORRO | E22: =SUM(E18:E21) -> 0 | F22: =SUM(F18:F21) -> 0 | G22: =SUM(G18:G21) -> 0
B23: HOGAR Y SERVICIOS BÁSICOS
D24: Renta | G24: =+E24-F24 -> 0
D25: Electricidad | G25: =+E25-F25 -> 0
D26: Agua | G26: =+E26-F26 -> 0
D27: Cable / Internet / Teléfono | G27: =+E27-F27 -> 0
D28: Gas / Basura | G28: =+E28-F28 -> 0
D29: Compras en el supermercado | G29: =+E29-F29 -> 0
D30: Empleados / Jardinería | G30: =+E30-F30 -> 0
D31: Lavandería / Dry Cleaning / Planchada | G31: =+E31-F31 -> 0
D32: Vigilancia | G32: =+E32-F32 -> 0
D33: Mantenimiento / Mejoras
D34: Compra de aparatos / Mobiliario | G34: =+E34-F34 -> 0
D35: TOTAL HOGAR Y SERVICIOS BÁSICOS | E35: =SUM(E24:E34) -> 0 | F35: =SUM(F24:F34) -> 0 | G35: =SUM(G24:G34) -> 0
B36: AUTO / TRANSPORTE
D37: Combustible | G37: =+E37-F37 -> 0
D38: Mantenimiento / Reparaciones | G38: =+E38-F38 -> 0
D39: Transporte | G39: =+E39-F39 -> 0
D40: Otros (Lavado / Inspecciones / Llantas) | G40: =+E40-F40 -> 0
D41: TOTAL AUTO / TRANSPORTE | E41: =SUM(E37:E40) -> 0 | F41: =SUM(F37:F40) -> 0 | G41: =SUM(G37:G40) -> 0
B42: PAGO DE DEUDAS
D43: Crédito hipotecario
D44: Crédito automotriz | G44: =+E44-F44 -> 0
...

Sheet Marzo
G2: El mes pasado me excedí en:
G3: =Febrero!F106 -> 0
B5: PRESUPUESTO PARA FAMILIAS
E7: PRESUPUESTADO | F7: REAL | G7: DIFERENCIA | H7: MEDIO DE PAGO
B8: INGRESOS | D8: Salario mensual | G8: =+E8-F8 -> 0 | H8: Depósito a cuenta
D9: Comisiones /Bonos / Viáticos | G9: =+E9-F9 -> 0
D10: Aguinaldo | G10: =+E10-F10 -> 0
D11: Retiro cuentas de ahorro / Intereses ganados | G11: =+E11-F11 -> 0
D12: Préstamos pedidos | G12: =+E12-F12 -> 0
D13: Negocios personales | G13: =+E13-F13 -> 0
D14: Otros | G14: =+E14-F14 -> 0
B15: TOTAL INGRESOS | E15: =SUM(E8:E14) -> 0 | F15: =SUM(F8:F14) -> 0 | G15: =SUM(G8:G14) -> 0 | H15: =SUM(H8:H13) -> 0
B16: AHORRO
D18: Fondo de emergencia | G18: =+E18-F18 -> 0
D19: Plan de retiro | G19: =+E19-F19 -> 0
D20: Metas | G20: =+E20-F20 -> 0
D21: Inversiones | G21: =+E21-F21 -> 0
D22: TOTAL AHORRO | E22: =SUM(E18:E21) -> 0 | F22: =SUM(F18:F21) -> 0 | G22: =SUM(G18:G21) -> 0
B23: HOGAR Y SERVICIOS BÁSICOS
D24: Renta | G24: =+E24-F24 -> 0
D25: Electricidad | G25: =+E25-F25 -> 0
D26: Agua | G26: =+E26-F26 -> 0
D27: Cable / Internet / Teléfono | G27: =+E27-F27 -> 0
D28: Gas / Basura | G28: =+E28-F28 -> 0
D29: Compras en el supermercado | G29: =+E29-F29 -> 0
D30: Empleados / Jardinería | G30: =+E30-F30 -> 0
D31: Lavandería / Dry Cleaning / Planchada | G31: =+E31-F31 -> 0
D32: Vigilancia | G32: =+E32-F32 -> 0
D33: Mantenimiento / Mejoras
D34: Compra de aparatos / Mobiliario | G34: =+E34-F34 -> 0
D35: TOTAL HOGAR Y SERVICIOS BÁSICOS | E35: =SUM(E24:E34) -> 0 | F35: =SUM(F24:F34) -> 0 | G35: =SUM(G24:G34) -> 0
B36: AUTO / TRANSPORTE
D37: Combustible | G37: =+E37-F37 -> 0
D38: Mantenimiento / Reparaciones | G38: =+E38-F38 -> 0
D39: Transporte | G39: =+E39-F39 -> 0
D40: Otros (Lavado / Inspecciones / Llantas) | G40: =+E40-F40 -> 0
D41: TOTAL AUTO / TRANSPORTE | E41: =SUM(E37:E40) -> 0 | F41: =SUM(F37:F40) -> 0 | G41: =SUM(G37:G40) -> 0
B42: PAGO DE DEUDAS
D43: Crédito hipotecario
D44: Crédito automotriz | G44: =+E44-F44 -> 0
...

Sheet Abril
G2: El mes pasado me excedí en:
G3: =Marzo!F106 -> 0
B5: PRESUPUESTO PARA FAMILIAS
E7: PRESUPUESTADO | F7: REAL | G7: DIFERENCIA | H7: MEDIO DE PAGO
B8: INGRESOS | D8: Salario mensual | G8: =+E8-F8 -> 0 | H8: Depósito a cuenta
D9: Comisiones /Bonos / Viáticos | G9: =+E9-F9 -> 0
D10: Aguinaldo | G10: =+E10-F10 -> 0
D11: Retiro cuentas de ahorro / Intereses ganados | G11: =+E11-F11 -> 0
D12: Préstamos pedidos | G12: =+E12-F12 -> 0
D13: Negocios personales | G13: =+E13-F13 -> 0
D14: Otros | G14: =+E14-F14 -> 0
B15: TOTAL INGRESOS | E15: =SUM(E8:E14) -> 0 | F15: =SUM(F8:F14) -> 0 | G15: =SUM(G8:G14) -> 0 | H15: =SUM(H8:H13) -> 0
B16: AHORRO
D18: Fondo de emergencia | G18: =+E18-F18 -> 0
D19: Plan de retiro | G19: =+E19-F19 -> 0
D20: Metas | G20: =+E20-F20 -> 0
D21: Inversiones | G21: =+E21-F21 -> 0
D22: TOTAL AHORRO | E22: =SUM(E18:E21) -> 0 | F22: =SUM(F18:F21) -> 0 | G22: =SUM(G18:G21) -> 0
B23: HOGAR Y SERVICIOS BÁSICOS
D24: Renta | G24: =+E24-F24 -> 0
D25: Electricidad | G25: =+E25-F25 -> 0
D26: Agua | G26: =+E26-F26 -> 0
D27: Cable / Internet / Teléfono | G27: =+E27-F27 -> 0
D28: Gas / Basura | G28: =+E28-F28 -> 0
D29: Compras en el supermercado | G29: =+E29-F29 -> 0
D30: Empleados / Jardinería | G30: =+E30-F30 -> 0
D31: Lavandería / Dry Cleaning / Planchada | G31: =+E31-F31 -> 0
D32: Vigilancia | G32: =+E32-F32 -> 0
D33: Mantenimiento / Mejoras
D34: Compra de aparatos / Mobiliario | G34: =+E34-F34 -> 0
D35: TOTAL HOGAR Y SERVICIOS BÁSICOS | E35: =SUM(E24:E34) -> 0 | F35: =SUM(F24:F34) -> 0 | G35: =SUM(G24:G34) -> 0
B36: AUTO / TRANSPORTE
D37: Combustible | G37: =+E37-F37 -> 0
D38: Mantenimiento / Reparaciones | G38: =+E38-F38 -> 0
D39: Transporte | G39: =+E39-F39 -> 0
D40: Otros (Lavado / Inspecciones / Llantas) | G40: =+E40-F40 -> 0
D41: TOTAL AUTO / TRANSPORTE | E41: =SUM(E37:E40) -> 0 | F41: =SUM(F37:F40) -> 0 | G41: =SUM(G37:G40) -> 0
B42: PAGO DE DEUDAS
D43: Crédito hipotecario
D44: Crédito automotriz | G44: =+E44-F44 -> 0
...

Sheet Mayo
G2: El mes pasado me excedí en:
G3: =Abril!F106 -> 0
B5: PRESUPUESTO PARA FAMILIAS
E7: PRESUPUESTADO | F7: REAL | G7: DIFERENCIA | H7: MEDIO DE PAGO
B8: INGRESOS | D8: Salario mensual | G8: =+E8-F8 -> 0 | H8: Depósito a cuenta
D9: Comisiones /Bonos / Viáticos | G9: =+E9-F9 -> 0
D10: Aguinaldo | G10: =+E10-F10 -> 0
D11: Retiro cuentas de ahorro / Intereses ganados | G11: =+E11-F11 -> 0
D12: Préstamos pedidos | G12: =+E12-F12 -> 0
D13: Negocios personales | G13: =+E13-F13 -> 0
D14: Otros | G14: =+E14-F14 -> 0
B15: TOTAL INGRESOS | E15: =SUM(E8:E14) -> 0 | F15: =SUM(F8:F14) -> 0 | G15: =SUM(G8:G14) -> 0 | H15: =SUM(H8:H13) -> 0
B16: AHORRO
D18: Fondo de emergencia | G18: =+E18-F18 -> 0
D19: Plan de retiro | G19: =+E19-F19 -> 0
D20: Metas | G20: =+E20-F20 -> 0
D21: Inversiones | G21: =+E21-F21 -> 0
D22: TOTAL AHORRO | E22: =SUM(E18:E21) -> 0 | F22: =SUM(F18:F21) -> 0 | G22: =SUM(G18:G21) -> 0
B23: HOGAR Y SERVICIOS BÁSICOS
D24: Renta | G24: =+E24-F24 -> 0
D25: Electricidad | G25: =+E25-F25 -> 0
D26: Agua | G26: =+E26-F26 -> 0
D27: Cable / Internet / Teléfono | G27: =+E27-F27 -> 0
D28: Gas / Basura | G28: =+E28-F28 -> 0
D29: Compras en el supermercado | G29: =+E29-F29 -> 0
D30: Empleados / Jardinería | G30: =+E30-F30 -> 0
D31: Lavandería / Dry Cleaning / Planchada | G31: =+E31-F31 -> 0
D32: Vigilancia | G32: =+E32-F32 -> 0
D33: Mantenimiento / Mejoras
D34: Compra de aparatos / Mobiliario | G34: =+E34-F34 -> 0
D35: TOTAL HOGAR Y SERVICIOS BÁSICOS | E35: =SUM(E24:E34) -> 0 | F35: =SUM(F24:F34) -> 0 | G35: =SUM(G24:G34) -> 0
B36: AUTO / TRANSPORTE
D37: Combustible | G37: =+E37-F37 -> 0
D38: Mantenimiento / Reparaciones | G38: =+E38-F38 -> 0
D39: Transporte | G39: =+E39-F39 -> 0
D40: Otros (Lavado / Inspecciones / Llantas) | G40: =+E40-F40 -> 0
D41: TOTAL AUTO / TRANSPORTE | E41: =SUM(E37:E40) -> 0 | F41: =SUM(F37:F40) -> 0 | G41: =SUM(G37:G40) -> 0
B42: PAGO DE DEUDAS
D43: Crédito hipotecario
D44: Crédito automotriz | G44: =+E44-F44 -> 0
...

Sheet Junio
G2: El mes pasado me excedí en:
G3: =Mayo!F106 -> 0
B5: PRESUPUESTO PARA FAMILIAS
E7: PRESUPUESTADO | F7: REAL | G7: DIFERENCIA | H7: MEDIO DE PAGO
B8: INGRESOS | D8: Salario mensual | G8: =+E8-F8 -> 0 | H8: Depósito a cuenta
D9: Comisiones /Bonos / Viáticos | G9: =+E9-F9 -> 0
D10: Aguinaldo | G10: =+E10-F10 -> 0
D11: Retiro cuentas de ahorro / Intereses ganados | G11: =+E11-F11 -> 0
D12: Préstamos pedidos | G12: =+E12-F12 -> 0
D13: Negocios personales | G13: =+E13-F13 -> 0
D14: Otros | G14: =+E14-F14 -> 0
B15: TOTAL INGRESOS | E15: =SUM(E8:E14) -> 0 | F15: =SUM(F8:F14) -> 0 | G15: =SUM(G8:G14) -> 0 | H15: =SUM(H8:H13) -> 0
B16: AHORRO
D18: Fondo de emergencia | G18: =+E18-F18 -> 0
D19: Plan de retiro | G19: =+E19-F19 -> 0
D20: Metas | G20: =+E20-F20 -> 0
D21: Inversiones | G21: =+E21-F21 -> 0
D22: TOTAL AHORRO | E22: =SUM(E18:E21) -> 0 | F22: =SUM(F18:F21) -> 0 | G22: =SUM(G18:G21) -> 0
B23: HOGAR Y SERVICIOS BÁSICOS
D24: Renta | G24: =+E24-F24 -> 0
D25: Electricidad | G25: =+E25-F25 -> 0
D26: Agua | G26: =+E26-F26 -> 0
D27: Cable / Internet / Teléfono | G27: =+E27-F27 -> 0
D28: Gas / Basura | G28: =+E28-F28 -> 0
D29: Compras en el supermercado | G29: =+E29-F29 -> 0
D30: Empleados / Jardinería | G30: =+E30-F30 -> 0
D31: Lavandería / Dry Cleaning / Planchada | G31: =+E31-F31 -> 0
D32: Vigilancia | G32: =+E32-F32 -> 0
D33: Mantenimiento / Mejoras
D34: Compra de aparatos / Mobiliario | G34: =+E34-F34 -> 0
D35: TOTAL HOGAR Y SERVICIOS BÁSICOS | E35: =SUM(E24:E34) -> 0 | F35: =SUM(F24:F34) -> 0 | G35: =SUM(G24:G34) -> 0
B36: AUTO / TRANSPORTE
D37: Combustible | G37: =+E37-F37 -> 0
D38: Mantenimiento / Reparaciones | G38: =+E38-F38 -> 0
D39: Transporte | G39: =+E39-F39 -> 0
D40: Otros (Lavado / Inspecciones / Llantas) | G40: =+E40-F40 -> 0
D41: TOTAL AUTO / TRANSPORTE | E41: =SUM(E37:E40) -> 0 | F41: =SUM(F37:F40) -> 0 | G41: =SUM(G37:G40) -> 0
B42: PAGO DE DEUDAS
D43: Crédito hipotecario
D44: Crédito automotriz | G44: =+E44-F44 -> 0
...

Sheet Julio
G2: El mes pasado me excedí en:
G3: =Junio!F106 -> 0
B5: PRESUPUESTO PARA FAMILIAS
E7: PRESUPUESTADO | F7: REAL | G7: DIFERENCIA | H7: MEDIO DE PAGO
B8: INGRESOS | D8: Salario mensual | G8: =+E8-F8 -> 0 | H8: Depósito a cuenta
D9: Comisiones /Bonos / Viáticos | G9: =+E9-F9 -> 0
D10: Aguinaldo | G10: =+E10-F10 -> 0
D11: Retiro cuentas de ahorro / Intereses ganados | G11: =+E11-F11 -> 0
D12: Préstamos pedidos | G12: =+E12-F12 -> 0
D13: Negocios personales | G13: =+E13-F13 -> 0
D14: Otros | G14: =+E14-F14 -> 0
B15: TOTAL INGRESOS | E15: =SUM(E8:E14) -> 0 | F15: =SUM(F8:F14) -> 0 | G15: =SUM(G8:G14) -> 0 | H15: =SUM(H8:H13) -> 0
B16: AHORRO
D18: Fondo de emergencia | G18: =+E18-F18 -> 0
D19: Plan de retiro | G19: =+E19-F19 -> 0
D20: Metas | G20: =+E20-F20 -> 0
D21: Inversiones | G21: =+E21-F21 -> 0
D22: TOTAL AHORRO | E22: =SUM(E18:E21) -> 0 | F22: =SUM(F18:F21) -> 0 | G22: =SUM(G18:G21) -> 0
B23: HOGAR Y SERVICIOS BÁSICOS
D24: Renta | G24: =+E24-F24 -> 0
D25: Electricidad | G25: =+E25-F25 -> 0
D26: Agua | G26: =+E26-F26 -> 0
D27: Cable / Internet / Teléfono | G27: =+E27-F27 -> 0
D28: Gas / Basura | G28: =+E28-F28 -> 0
D29: Compras en el supermercado | G29: =+E29-F29 -> 0
D30: Empleados / Jardinería | G30: =+E30-F30 -> 0
D31: Lavandería / Dry Cleaning / Planchada | G31: =+E31-F31 -> 0
D32: Vigilancia | G32: =+E32-F32 -> 0
D33: Mantenimiento / Mejoras
D34: Compra de aparatos / Mobiliario | G34: =+E34-F34 -> 0
D35: TOTAL HOGAR Y SERVICIOS BÁSICOS | E35: =SUM(E24:E34) -> 0 | F35: =SUM(F24:F34) -> 0 | G35: =SUM(G24:G34) -> 0
B36: AUTO / TRANSPORTE
D37: Combustible | G37: =+E37-F37 -> 0
D38: Mantenimiento / Reparaciones | G38: =+E38-F38 -> 0
D39: Transporte | G39: =+E39-F39 -> 0
D40: Otros (Lavado / Inspecciones / Llantas) | G40: =+E40-F40 -> 0
D41: TOTAL AUTO / TRANSPORTE | E41: =SUM(E37:E40) -> 0 | F41: =SUM(F37:F40) -> 0 | G41: =SUM(G37:G40) -> 0
B42: PAGO DE DEUDAS
D43: Crédito hipotecario
D44: Crédito automotriz | G44: =+E44-F44 -> 0
...

Sheet Agosto
G2: El mes pasado me excedí en:
G3: =Julio!F106 -> 0
B5: PRESUPUESTO PARA FAMILIAS
E7: PRESUPUESTADO | F7: REAL | G7: DIFERENCIA | H7: MEDIO DE PAGO
B8: INGRESOS | D8: Salario mensual | G8: =+E8-F8 -> 0 | H8: Depósito a cuenta
D9: Comisiones /Bonos / Viáticos | G9: =+E9-F9 -> 0
D10: Aguinaldo | G10: =+E10-F10 -> 0
D11: Retiro cuentas de ahorro / Intereses ganados | G11: =+E11-F11 -> 0
D12: Préstamos pedidos | G12: =+E12-F12 -> 0
D13: Negocios personales | G13: =+E13-F13 -> 0
D14: Otros | G14: =+E14-F14 -> 0
B15: TOTAL INGRESOS | E15: =SUM(E8:E14) -> 0 | F15: =SUM(F8:F14) -> 0 | G15: =SUM(G8:G14) -> 0 | H15: =SUM(H8:H13) -> 0
B16: AHORRO
D18: Fondo de emergencia | G18: =+E18-F18 -> 0
D19: Plan de retiro | G19: =+E19-F19 -> 0
D20: Metas | G20: =+E20-F20 -> 0
D21: Inversiones | G21: =+E21-F21 -> 0
D22: TOTAL AHORRO | E22: =SUM(E18:E21) -> 0 | F22: =SUM(F18:F21) -> 0 | G22: =SUM(G18:G21) -> 0
B23: HOGAR Y SERVICIOS BÁSICOS
D24: Renta | G24: =+E24-F24 -> 0
D25: Electricidad | G25: =+E25-F25 -> 0
D26: Agua | G26: =+E26-F26 -> 0
D27: Cable / Internet / Teléfono | G27: =+E27-F27 -> 0
D28: Gas / Basura | G28: =+E28-F28 -> 0
D29: Compras en el supermercado | G29: =+E29-F29 -> 0
D30: Empleados / Jardinería | G30: =+E30-F30 -> 0
D31: Lavandería / Dry Cleaning / Planchada | G31: =+E31-F31 -> 0
D32: Vigilancia | G32: =+E32-F32 -> 0
D33: Mantenimiento / Mejoras
D34: Compra de aparatos / Mobiliario | G34: =+E34-F34 -> 0
D35: TOTAL HOGAR Y SERVICIOS BÁSICOS | E35: =SUM(E24:E34) -> 0 | F35: =SUM(F24:F34) -> 0 | G35: =SUM(G24:G34) -> 0
B36: AUTO / TRANSPORTE
D37: Combustible | G37: =+E37-F37 -> 0
D38: Mantenimiento / Reparaciones | G38: =+E38-F38 -> 0
D39: Transporte | G39: =+E39-F39 -> 0
D40: Otros (Lavado / Inspecciones / Llantas) | G40: =+E40-F40 -> 0
D41: TOTAL AUTO / TRANSPORTE | E41: =SUM(E37:E40) -> 0 | F41: =SUM(F37:F40) -> 0 | G41: =SUM(G37:G40) -> 0
B42: PAGO DE DEUDAS
D43: Crédito hipotecario
D44: Crédito automotriz | G44: =+E44-F44 -> 0
...

Sheet Septiembre
G2: El mes pasado me excedí en:
G3: =Agosto!F106 -> 0
B5: PRESUPUESTO PARA FAMILIAS
E7: PRESUPUESTADO | F7: REAL | G7: DIFERENCIA | H7: MEDIO DE PAGO
B8: INGRESOS | D8: Salario mensual | G8: =+E8-F8 -> 0 | H8: Depósito a cuenta
D9: Comisiones /Bonos / Viáticos | G9: =+E9-F9 -> 0
D10: Aguinaldo | G10: =+E10-F10 -> 0
D11: Retiro cuentas de ahorro / Intereses ganados | G11: =+E11-F11 -> 0
D12: Préstamos pedidos | G12: =+E12-F12 -> 0
D13: Negocios personales | G13: =+E13-F13 -> 0
D14: Otros | G14: =+E14-F14 -> 0
B15: TOTAL INGRESOS | E15: =SUM(E8:E14) -> 0 | F15: =SUM(F8:F14) -> 0 | G15: =SUM(G8:G14) -> 0 | H15: =SUM(H8:H13) -> 0
B16: AHORRO
D18: Fondo de emergencia | G18: =+E18-F18 -> 0
D19: Plan de retiro | G19: =+E19-F19 -> 0
D20: Metas | G20: =+E20-F20 -> 0
D21: Inversiones | G21: =+E21-F21 -> 0
D22: TOTAL AHORRO | E22: =SUM(E18:E21) -> 0 | F22: =SUM(F18:F21) -> 0 | G22: =SUM(G18:G21) -> 0
B23: HOGAR Y SERVICIOS BÁSICOS
D24: Renta | G24: =+E24-F24 -> 0
D25: Electricidad | G25: =+E25-F25 -> 0
D26: Agua | G26: =+E26-F26 -> 0
D27: Cable / Internet / Teléfono | G27: =+E27-F27 -> 0
D28: Gas / Basura | G28: =+E28-F28 -> 0
D29: Compras en el supermercado | G29: =+E29-F29 -> 0
D30: Empleados / Jardinería | G30: =+E30-F30 -> 0
D31: Lavandería / Dry Cleaning / Planchada | G31: =+E31-F31 -> 0
D32: Vigilancia | G32: =+E32-F32 -> 0
D33: Mantenimiento / Mejoras
D34: Compra de aparatos / Mobiliario | G34: =+E34-F34 -> 0
D35: TOTAL HOGAR Y SERVICIOS BÁSICOS | E35: =SUM(E24:E34) -> 0 | F35: =SUM(F24:F34) -> 0 | G35: =SUM(G24:G34) -> 0
B36: AUTO / TRANSPORTE
D37: Combustible | G37: =+E37-F37 -> 0
D38: Mantenimiento / Reparaciones | G38: =+E38-F38 -> 0
D39: Transporte | G39: =+E39-F39 -> 0
D40: Otros (Lavado / Inspecciones / Llantas) | G40: =+E40-F40 -> 0
D41: TOTAL AUTO / TRANSPORTE | E41: =SUM(E37:E40) -> 0 | F41: =SUM(F37:F40) -> 0 | G41: =SUM(G37:G40) -> 0
B42: PAGO DE DEUDAS
D43: Crédito hipotecario
D44: Crédito automotriz | G44: =+E44-F44 -> 0
...

Sheet Octubre
G2: El mes pasado me excedí en:
G3: =Septiembre!F106 -> 0
B5: PRESUPUESTO PARA FAMILIAS
E7: PRESUPUESTADO | F7: REAL | G7: DIFERENCIA | H7: MEDIO DE PAGO
B8: INGRESOS | D8: Salario mensual | G8: =+E8-F8 -> 0 | H8: Depósito a cuenta
D9: Comisiones /Bonos / Viáticos | G9: =+E9-F9 -> 0
D10: Aguinaldo | G10: =+E10-F10 -> 0
D11: Retiro cuentas de ahorro / Intereses ganados | G11: =+E11-F11 -> 0
D12: Préstamos pedidos | G12: =+E12-F12 -> 0
D13: Negocios personales | G13: =+E13-F13 -> 0
D14: Otros | G14: =+E14-F14 -> 0
B15: TOTAL INGRESOS | E15: =SUM(E8:E14) -> 0 | F15: =SUM(F8:F14) -> 0 | G15: =SUM(G8:G14) -> 0 | H15: =SUM(H8:H13) -> 0
B16: AHORRO
D18: Fondo de emergencia | G18: =+E18-F18 -> 0
D19: Plan de retiro | G19: =+E19-F19 -> 0
D20: Metas | G20: =+E20-F20 -> 0
D21: Inversiones | G21: =+E21-F21 -> 0
D22: TOTAL AHORRO | E22: =SUM(E18:E21) -> 0 | F22: =SUM(F18:F21) -> 0 | G22: =SUM(G18:G21) -> 0
B23: HOGAR Y SERVICIOS BÁSICOS
D24: Renta | G24: =+E24-F24 -> 0
D25: Electricidad | G25: =+E25-F25 -> 0
D26: Agua | G26: =+E26-F26 -> 0
D27: Cable / Internet / Teléfono | G27: =+E27-F27 -> 0
D28: Gas / Basura | G28: =+E28-F28 -> 0
D29: Compras en el supermercado | G29: =+E29-F29 -> 0
D30: Empleados / Jardinería | G30: =+E30-F30 -> 0
D31: Lavandería / Dry Cleaning / Planchada | G31: =+E31-F31 -> 0
D32: Vigilancia | G32: =+E32-F32 -> 0
D33: Mantenimiento / Mejoras
D34: Compra de aparatos / Mobiliario | G34: =+E34-F34 -> 0
D35: TOTAL HOGAR Y SERVICIOS BÁSICOS | E35: =SUM(E24:E34) -> 0 | F35: =SUM(F24:F34) -> 0 | G35: =SUM(G24:G34) -> 0
B36: AUTO / TRANSPORTE
D37: Combustible | G37: =+E37-F37 -> 0
D38: Mantenimiento / Reparaciones | G38: =+E38-F38 -> 0
D39: Transporte | G39: =+E39-F39 -> 0
D40: Otros (Lavado / Inspecciones / Llantas) | G40: =+E40-F40 -> 0
D41: TOTAL AUTO / TRANSPORTE | E41: =SUM(E37:E40) -> 0 | F41: =SUM(F37:F40) -> 0 | G41: =SUM(G37:G40) -> 0
B42: PAGO DE DEUDAS
D43: Crédito hipotecario
D44: Crédito automotriz | G44: =+E44-F44 -> 0
...

Sheet Noviembre
G2: El mes pasado me excedí en:
G3: =Octubre!F106 -> 0
B5: PRESUPUESTO PARA FAMILIAS
E7: PRESUPUESTADO | F7: REAL | G7: DIFERENCIA | H7: MEDIO DE PAGO
B8: INGRESOS | D8: Salario mensual | G8: =+E8-F8 -> 0 | H8: Depósito a cuenta
D9: Comisiones /Bonos / Viáticos | G9: =+E9-F9 -> 0
D10: Aguinaldo | G10: =+E10-F10 -> 0
D11: Retiro cuentas de ahorro / Intereses ganados | G11: =+E11-F11 -> 0
D12: Préstamos pedidos | G12: =+E12-F12 -> 0
D13: Negocios personales | G13: =+E13-F13 -> 0
D14: Otros | G14: =+E14-F14 -> 0
B15: TOTAL INGRESOS | E15: =SUM(E8:E14) -> 0 | F15: =SUM(F8:F14) -> 0 | G15: =SUM(G8:G14) -> 0 | H15: =SUM(H8:H13) -> 0
B16: AHORRO
D18: Fondo de emergencia | G18: =+E18-F18 -> 0
D19: Plan de retiro | G19: =+E19-F19 -> 0
D20: Metas | G20: =+E20-F20 -> 0
D21: Inversiones | G21: =+E21-F21 -> 0
D22: TOTAL AHORRO | E22: =SUM(E18:E21) -> 0 | F22: =SUM(F18:F21) -> 0 | G22: =SUM(G18:G21) -> 0
B23: HOGAR Y SERVICIOS BÁSICOS
D24: Renta | G24: =+E24-F24 -> 0
D25: Electricidad | G25: =+E25-F25 -> 0
D26: Agua | G26: =+E26-F26 -> 0
D27: Cable / Internet / Teléfono | G27: =+E27-F27 -> 0
D28: Gas / Basura | G28: =+E28-F28 -> 0
D29: Compras en el supermercado | G29: =+E29-F29 -> 0
D30: Empleados / Jardinería | G30: =+E30-F30 -> 0
D31: Lavandería / Dry Cleaning / Planchada | G31: =+E31-F31 -> 0
D32: Vigilancia | G32: =+E32-F32 -> 0
D33: Mantenimiento / Mejoras
D34: Compra de aparatos / Mobiliario | G34: =+E34-F34 -> 0
D35: TOTAL HOGAR Y SERVICIOS BÁSICOS | E35: =SUM(E24:E34) -> 0 | F35: =SUM(F24:F34) -> 0 | G35: =SUM(G24:G34) -> 0
B36: AUTO / TRANSPORTE
D37: Combustible | G37: =+E37-F37 -> 0
D38: Mantenimiento / Reparaciones | G38: =+E38-F38 -> 0
D39: Transporte | G39: =+E39-F39 -> 0
D40: Otros (Lavado / Inspecciones / Llantas) | G40: =+E40-F40 -> 0
D41: TOTAL AUTO / TRANSPORTE | E41: =SUM(E37:E40) -> 0 | F41: =SUM(F37:F40) -> 0 | G41: =SUM(G37:G40) -> 0
B42: PAGO DE DEUDAS
D43: Crédito hipotecario
D44: Crédito automotriz | G44: =+E44-F44 -> 0
...

Sheet Diciembre
G2: El mes pasado me excedí en:
G3: =Noviembre!F106 -> 0
B5: PRESUPUESTO PARA FAMILIAS
E7: PRESUPUESTADO | F7: REAL | G7: DIFERENCIA | H7: MEDIO DE PAGO
B8: INGRESOS | D8: Salario mensual | G8: =+E8-F8 -> 0 | H8: Depósito a cuenta
D9: Comisiones /Bonos / Viáticos | G9: =+E9-F9 -> 0
D10: Aguinaldo | G10: =+E10-F10 -> 0
D11: Retiro cuentas de ahorro / Intereses ganados | G11: =+E11-F11 -> 0
D12: Préstamos pedidos | G12: =+E12-F12 -> 0
D13: Negocios personales | G13: =+E13-F13 -> 0
D14: Otros | G14: =+E14-F14 -> 0
B15: TOTAL INGRESOS | E15: =SUM(E8:E14) -> 0 | F15: =SUM(F8:F14) -> 0 | G15: =SUM(G8:G14) -> 0 | H15: =SUM(H8:H13) -> 0
B16: AHORRO
D18: Fondo de emergencia | G18: =+E18-F18 -> 0
D19: Plan de retiro | G19: =+E19-F19 -> 0
D20: Metas | G20: =+E20-F20 -> 0
D21: Inversiones | G21: =+E21-F21 -> 0
D22: TOTAL AHORRO | E22: =SUM(E18:E21) -> 0 | F22: =SUM(F18:F21) -> 0 | G22: =SUM(G18:G21) -> 0
B23: HOGAR Y SERVICIOS BÁSICOS
D24: Renta | G24: =+E24-F24 -> 0
D25: Electricidad | G25: =+E25-F25 -> 0
D26: Agua | G26: =+E26-F26 -> 0
D27: Cable / Internet / Teléfono | G27: =+E27-F27 -> 0
D28: Gas / Basura | G28: =+E28-F28 -> 0
D29: Compras en el supermercado | G29: =+E29-F29 -> 0
D30: Empleados / Jardinería | G30: =+E30-F30 -> 0
D31: Lavandería / Dry Cleaning / Planchada | G31: =+E31-F31 -> 0
D32: Vigilancia | G32: =+E32-F32 -> 0
D33: Mantenimiento / Mejoras
D34: Compra de aparatos / Mobiliario | G34: =+E34-F34 -> 0
D35: TOTAL HOGAR Y SERVICIOS BÁSICOS | E35: =SUM(E24:E34) -> 0 | F35: =SUM(F24:F34) -> 0 | G35: =SUM(G24:G34) -> 0
B36: AUTO / TRANSPORTE
D37: Combustible | G37: =+E37-F37 -> 0
D38: Mantenimiento / Reparaciones | G38: =+E38-F38 -> 0
D39: Transporte | G39: =+E39-F39 -> 0
D40: Otros (Lavado / Inspecciones / Llantas) | G40: =+E40-F40 -> 0
D41: TOTAL AUTO / TRANSPORTE | E41: =SUM(E37:E40) -> 0 | F41: =SUM(F37:F40) -> 0 | G41: =SUM(G37:G40) -> 0
B42: PAGO DE DEUDAS
D43: Crédito hipotecario
D44: Crédito automotriz | G44: =+E44-F44 -> 0
...

Sheet Lista desplegable
C2: INGRESOS | D2: GASTOS
C3: Transferencia | D3: Tarjeta de crédito
C4: Depósito a cuenta | D4: Tarjeta de débito
C5: Otros | D5: Transferencia
D6: Efectivo
